Workbook

Sheet P+V - sumár
A1: ROZPOČET NA ROKY 2025-2027
A3: Prehľad príjmov a výdavkov rozpočtu
B6: skutočnosť 2022 | C6: skutočnosť 2023 | D6: schválený rozpočet 2024 | E6: skutočnosť 2024 | F6: návrh rozpočtu 2025 | G6: návrh na rok 2026 | H6: návrh na rok 2027
A7: Bežné príjmy | B7: ='P+V'!F51 -> 1077356.8 | C7: ='P+V'!G51 -> 1308654.2 | D7: ='P+V'!H51 -> 1335910.2 | E7: ='P+V'!I51 -> 1386993.5 | F7: ='P+V'!J51 -> 1295278.6 | G7: ='P+V'!K51 -> 1345350.2 | H7: ='P+V'!L51 -> 1384024.2
A8: Bežné výdavky | B8: ='P+V'!F755 -> 996920.06 | C8: ='P+V'!G755 -> 1072094.5 | D8: ='P+V'!H755 -> 1156551.9 | E8: ='P+V'!I755 -> 1162688 | F8: ='P+V'!J755 -> 1172165.8 | G8: ='P+V'!K755 -> 1162308.1 | H8: ='P+V'!L755 -> 1185954.4
A9: Saldo bežného rozpočtu | B9: =B7-B8 -> 80436.77 | C9: =C7-C8 -> 236559.7 | D9: =D7-D8 -> 179358.35 | E9: =E7-E8 -> 224305.52 | F9: =F7-F8 -> 123112.82 | G9: =G7-G8 -> 183042.12 | H9: =H7-H8 -> 198069.8
A11: Kapitálové príjmy | B11: ='P+V'!F772 -> 14467.78 | C11: ='P+V'!G772 -> 43354 | D11: ='P+V'!H772 -> 381977.54 | E11: ='P+V'!I772 -> 5000 | F11: ='P+V'!J772 -> 768376.9 | G11: ='P+V'!K772 -> 36740 | H11: ='P+V'!L772 -> 0
A12: Kapitálové výdavky | B12: ='P+V'!F816 -> 4008 | C12: ='P+V'!G816 -> 29215.95 | D12: ='P+V'!H816 -> 692978.04 | E12: ='P+V'!I816 -> 178782.22 | F12: ='P+V'!J816 -> 1240764 | G12: ='P+V'!K816 -> 200630 | H12: ='P+V'!L816 -> 12050
A13: Saldo kapitálového rozpočtu | B13: =B11-B12 -> 10459.78 | C13: =C11-C12 -> 14138.05 | D13: =D11-D12 -> -311000.5 | E13: =E11-E12 -> -173782.22 | F13: =F11-F12 -> -472387.1 | G13: =G11-G12 -> -163890 | H13: =H11-H12 -> -12050
A15: Príjmové finančné operácie | B15: ='P+V'!F834 -> 63226.82 | C15: ='P+V'!G834 -> 55092.43 | D15: ='P+V'!H834 -> 181744.75 | E15: ='P+V'!I834 -> 56215.1 | F15: ='P+V'!J834 -> 399849.2 | G15: ='P+V'!K834 -> 135000 | H15: ='P+V'!L834 -> 0
A16: Výdavkové finančné operácie | B16: ='P+V'!F843 -> 49297.81 | C16: ='P+V'!G843 -> 99714.15 | D16: ='P+V'!H843 -> 50102.6 | E16: ='P+V'!I843 -> 50102.6 | F16: ='P+V'!J843 -> 50574.92 | G16: ='P+V'!K843 -> 50988.58 | H16: ='P+V'!L843 -> 51422.26
A17: Saldo finančných operácií | B17: =B15-B16 -> 13929.01 | C17: =C15-C16 -> -44621.72 | D17: =D15-D16 -> 131642.15 | E17: =E15-E16 -> 6112.5 | F17: =F15-F16 -> 349274.28 | G17: =G15-G16 -> 84011.42 | H17: =H15-H16 -> -51422.26
A19: Celkové príjmy | B19: =B7+B11+B15 -> 1155051.4 | C19: =C7+C11+C15 -> 1407100.6 | D19: =D7+D11+D15 -> 1899632.5 | E19: =E7+E11+E15 -> 1448208.6 | F19: =F7+F11+F15 -> 2463504.7 | G19: =G7+G11+G15 -> 1517090.2 | H19: =H7+H11+H15 -> 1384024.2
A20: Celkové výdavky | B20: =B8+B12+B16 -> 1050225.9 | C20: =C8+C12+C16 -> 1201024.6 | D20: =D8+D12+D16 -> 1899632.5 | E20: =E8+E12+E16 -> 1391572.8 | F20: =F8+F12+F16 -> 2463504.7 | G20: =G8+G12+G16 -> 1413926.7 | H20: =H8+H12+H16 -> 1249426.7
A21: Celkové saldo | B21: =B19-B20 -> 104825.56 | C21: =C19-C20 -> 206076.03 | D21: =D19-D20 -> 0 | E21: =E19-E20 -> 56635.8 | F21: =F19-F20 -> 0 | G21: =G19-G20 -> 103163.54 | H21: =H19-H20 -> 134597.54
A23: Celkové príjmy bez finančných operácií | B23: =B7+B11 -> 1091824.6 | C23: =C7+C11 -> 1352008.2 | D23: =D7+D11 -> 1717887.8 | E23: =E7+E11 -> 1391993.5 | F23: =F7+F11 -> 2063655.5 | G23: =G7+G11 -> 1382090.2 | H23: =H7+H11 -> 1384024.2
A24: Celkové výdavky bez finančných operácií | B24: =B8+B12 -> 1000928.1 | C24: =C8+C12 -> 1101310.5 | D24: =D8+D12 -> 1849529.9 | E24: =E8+E12 -> 1341470.2 | F24: =F8+F12 -> 2412929.8 | G24: =G8+G12 -> 1362938.1 | H24: =H8+H12 -> 1198004.4
A25: Celkové saldo bez finančných operácií | B25: =B23-B24 -> 90896.55 | C25: =C23-C24 -> 250697.75 | D25: =D23-D24 -> -131642.15 | E25: =E23-E24 -> 50523.3 | F25: =F23-F24 -> -349274.28 | G25: =G23-G24 -> 19152.12 | H25: =H23-H24 -> 186019.8
A32: V Kráľovej nad Váhom, dňa 20.03.2025 | F32: ................................................................................
F33: v.r. Jaroslava Bergendiová
F34: starostka obce

Sheet P+V
A1: ROZPOČET NA ROKY 2025-2027
A3: BEŽNÝ ROZPOČET - PRÍJMY
B5: ekonomická klasifikácia | C5: analytika | D5: zdroj | E5: názov | F5: skutočnosť 2022 | G5: skutočnosť 2023 | H5: schválený rozpočet 2024 | I5: skutočnosť 2024 | J5: návrh rozpočtu 2025 | K5: návrh na rok 2026 | L5: návrh na rok 2027
A6: ='[1]P - celé'!A4 | B6: ='[1]P - celé'!B4 -> 111003 | C6: ='[1]P - celé'!C4 | D6: ='[1]P - celé'!D4 -> 41 | E6: ='[1]P - celé'!E4 -> Výnos dane z príjmov poukázaný územnej samospráve | F6: ='[1]P - celé'!F4 -> 595288.29 | G6: ='[1]P - celé'!G4 -> 660982.88 | H6: ='[1]P - celé'!H4 -> 688157 | ... L6: ='[1]P - celé'!L4 -> 662442
A7: ='[1]P - celé'!A5 | B7: ='[1]P - celé'!B5 -> 121001 | C7: ='[1]P - celé'!C5 | D7: ='[1]P - celé'!D5 -> 41 | E7: ='[1]P - celé'!E5 -> Daň z pozemkov | F7: ='[1]P - celé'!F5 -> 40280.74 | G7: ='[1]P - celé'!G5 -> 47048.05 | H7: ='[1]P - celé'!H5 -> 55877.16 | ... L7: ='[1]P - celé'!L5 -> 59433
A8: ='[1]P - celé'!A6 | B8: ='[1]P - celé'!B6 -> 121002 | C8: ='[1]P - celé'!C6 | D8: ='[1]P - celé'!D6 -> 41 | E8: ='[1]P - celé'!E6 -> Zo stavieb | F8: ='[1]P - celé'!F6 -> 32657.58 | G8: ='[1]P - celé'!G6 -> 49926.51 | H8: ='[1]P - celé'!H6 -> 58184.08 | ... L8: ='[1]P - celé'!L6 -> 64955
A9: ='[1]P - celé'!A7 | B9: ='[1]P - celé'!B7 -> 121003 | C9: ='[1]P - celé'!C7 | D9: ='[1]P - celé'!D7 -> 41 | E9: ='[1]P - celé'!E7 -> Z bytov a nebytových priestorov v bytovom dome | F9: ='[1]P - celé'!F7 -> 79.66 | G9: ='[1]P - celé'!G7 -> 136.56 | H9: ='[1]P - celé'!H7 -> 170.7 | ... L9: ='[1]P - celé'!L7 -> 193.46
A10: ='[1]P - celé'!A8 | B10: ='[1]P - celé'!B8 -> 133001 | C10: ='[1]P - celé'!C8 | D10: ='[1]P - celé'!D8 -> 41 | E10: ='[1]P - celé'!E8 -> Za psa | F10: ='[1]P - celé'!F8 -> 1116 | G10: ='[1]P - celé'!G8 -> 1693.28 | H10: ='[1]P - celé'!H8 -> 1776 | ... L10: ='[1]P - celé'!L8 -> 1776
A11: ='[1]P - celé'!A9 | B11: ='[1]P - celé'!B9 -> 133012 | C11: ='[1]P - celé'!C9 | D11: ='[1]P - celé'!D9 -> 41 | E11: ='[1]P - celé'!E9 -> Za užívanie verejného priestranstva | F11: ='[1]P - celé'!F9 -> 0 | G11: ='[1]P - celé'!G9 -> 30 | H11: ='[1]P - celé'!H9 -> 50 | ... L11: ='[1]P - celé'!L9 -> 50
A12: ='[1]P - celé'!A10 | B12: ='[1]P - celé'!B10 -> 133013 | C12: ='[1]P - celé'!C10 | D12: ='[1]P - celé'!D10 -> 41 | E12: ='[1]P - celé'!E10 -> Za komunálne odpady a drobné stavebné odpady | F12: ='[1]P - celé'!F10 -> 51923.25 | G12: ='[1]P - celé'!G10 -> 54730.11 | H12: ='[1]P - celé'!H10 -> 67966.2 | ... L12: ='[1]P - celé'!L10 -> 73920
A13: ='[1]P - celé'!A11 | B13: ='[1]P - celé'!B11 -> 212002 | C13: ='[1]P - celé'!C11 | D13: ='[1]P - celé'!D11 -> 41 | E13: ='[1]P - celé'!E11 -> Z prenajatých pozemkov | F13: ='[1]P - celé'!F11 -> 2446.04 | G13: ='[1]P - celé'!G11 -> 2300.37 | H13: ='[1]P - celé'!H11 -> 2585.02 | ... L13: ='[1]P - celé'!L11 -> 2835.02
A14: ='[1]P - celé'!A12 | B14: ='[1]P - celé'!B12 -> 212003 | C14: ='[1]P - celé'!C12 | D14: ='[1]P - celé'!D12 -> 41 | E14: ='[1]P - celé'!E12 -> Z prenajatých budov, priestorov a objektov | F14: ='[1]P - celé'!F12 -> 67800.31 | G14: ='[1]P - celé'!G12 -> 65066.68 | H14: ='[1]P - celé'!H12 -> 3805.78 | ... L14: ='[1]P - celé'!L12 -> 3755.78
A15: ='[1]P - celé'!A13 | B15: ='[1]P - celé'!B13 -> 212003 | C15: ='[1]P - celé'!C13 -> BYTY | D15: ='[1]P - celé'!D13 -> 41 | E15: ='[1]P - celé'!E13 -> Z prenajatých budov, priestorov a objektov | F15: ='[1]P - celé'!F13 -> 0 | G15: ='[1]P - celé'!G13 -> 0 | H15: ='[1]P - celé'!H13 -> 75217.08 | ... L15: ='[1]P - celé'!L13 -> 75217.08
A16: ='[1]P - celé'!A14 | B16: ='[1]P - celé'!B14 -> 221002 | C16: ='[1]P - celé'!C14 | D16: ='[1]P - celé'!D14 -> 41 | E16: ='[1]P - celé'!E14 -> Správne poplatky | F16: ='[1]P - celé'!F14 -> 6940.05 | G16: ='[1]P - celé'!G14 -> 7169 | H16: ='[1]P - celé'!H14 -> 7000 | ... L16: ='[1]P - celé'!L14 -> 8000
A17: ='[1]P - celé'!A15 | B17: ='[1]P - celé'!B15 -> 221004 | C17: ='[1]P - celé'!C15 | D17: ='[1]P - celé'!D15 -> 41 | E17: ='[1]P - celé'!E15 -> Ostatné poplatky | F17: ='[1]P - celé'!F15 -> 2 | G17: ='[1]P - celé'!G15 -> 0 | H17: ='[1]P - celé'!H15 -> 0 | ... L17: ='[1]P - celé'!L15 -> 0
... A50: ='[1]P - celé'!A48 | B50: ='[1]P - celé'!B48 -> 312011 | C50: ='[1]P - celé'!C48 | D50: ='[1]P - celé'!D48 -> 71 | E50: ='[1]P - celé'!E48 -> Od ostatných subjektov verejnej správy | F50: ='[1]P - celé'!F48 -> 19149.59 | G50: ='[1]P - celé'!G48 -> 25606.68 | H50: ='[1]P - celé'!H48 -> 25460.28 | ... L50: ='[1]P - celé'!L48 -> 27110
A51: SPOLU - bežný rozpočet - príjmy | F51: =SUM(F6:F50) -> 1077356.8 | G51: =SUM(G6:G50) -> 1308654.2 | H51: =SUM(H6:H50) -> 1335910.2 | I51: =SUM(I6:I50) -> 1386993.5 | J51: =SUM(J6:J50) -> 1295278.6 | K51: =SUM(K6:K50) -> 1345350.2 | L51: =SUM(L6:L50) -> 1384024.2
A53: BEŽNÝ ROZPOČET - VÝDAVKY
A55: 0111 - Výkonné a zákonodarné orgány
A56: funkčná klasifikácia | B56: ekonomická klasifikácia | C56: analytika | D56: zdroj | E56: názov | F56: skutočnosť 2022 | G56: skutočnosť 2023 | H56: schválený rozpočet 2024 | I56: skutočnosť 2024 | J56: návrh rozpočtu 2025 | K56: návrh na rok 2026 | L56: návrh na rok 2027
A57: ='[1]V - celé'!A4 -> 01.1.1 | B57: ='[1]V - celé'!B4 -> 611 | C57: ='[1]V - celé'!C4 | D57: ='[1]V - celé'!D4 -> 3AA1 | E57: ='[1]V - celé'!E4 -> Tarifný plat, osobný plat, základný plat, funkčný | F57: ='[1]V - celé'!F4 -> 12612.01 | G57: ='[1]V - celé'!G4 -> 0 | H57: ='[1]V - celé'!H4 -> 0 | ... L57: ='[1]V - celé'!L4 -> 0
A58: ='[1]V - celé'!A5 -> 01.1.1 | B58: ='[1]V - celé'!B5 -> 611 | C58: ='[1]V - celé'!C5 | D58: ='[1]V - celé'!D5 -> 3AA2 | E58: ='[1]V - celé'!E5 -> Tarifný plat, osobný plat, základný plat, funkčný | F58: ='[1]V - celé'!F5 -> 1483.77 | G58: ='[1]V - celé'!G5 -> 0 | H58: ='[1]V - celé'!H5 -> 0 | ... L58: ='[1]V - celé'!L5 -> 0
A59: ='[1]V - celé'!A6 -> 01.1.1 | B59: ='[1]V - celé'!B6 -> 611 | C59: ='[1]V - celé'!C6 | D59: ='[1]V - celé'!D6 -> 111 | E59: ='[1]V - celé'!E6 -> Tarifný plat, osobný plat, základný plat, funkčný | F59: ='[1]V - celé'!F6 -> 0 | G59: ='[1]V - celé'!G6 -> 0 | H59: ='[1]V - celé'!H6 -> 0 | ... L59: ='[1]V - celé'!L6 -> 485.51
A60: ='[1]V - celé'!A7 -> 01.1.1 | B60: ='[1]V - celé'!B7 -> 611 | C60: ='[1]V - celé'!C7 | D60: ='[1]V - celé'!D7 -> 41 | E60: ='[1]V - celé'!E7 -> Tarifný plat, osobný plat, základný plat, funkčný | F60: ='[1]V - celé'!F7 -> 92456.42 | G60: ='[1]V - celé'!G7 -> 89779.87 | H60: ='[1]V - celé'!H7 -> 88351.2 | ... L60: ='[1]V - celé'!L7 -> 111680
A61: ='[1]V - celé'!A8 -> 01.1.1 | B61: ='[1]V - celé'!B8 -> 611 | C61: ='[1]V - celé'!C8 | D61: ='[1]V - celé'!D8 -> 46 | E61: ='[1]V - celé'!E8 -> Tarifný plat, osobný plat, základný plat, funkčný | F61: ='[1]V - celé'!F8 -> 12365.01 | G61: ='[1]V - celé'!G8 -> 0 | H61: ='[1]V - celé'!H8 -> 0 | ... L61: ='[1]V - celé'!L8 -> 0
A62: ='[1]V - celé'!A9 -> 01.1.1 | B62: ='[1]V - celé'!B9 -> 621 | C62: ='[1]V - celé'!C9 | D62: ='[1]V - celé'!D9 -> 111 | E62: ='[1]V - celé'!E9 -> Poistné do Všeobecnej zdravotnej poisťovne | F62: ='[1]V - celé'!F9 -> 0 | G62: ='[1]V - celé'!G9 -> 0 | H62: ='[1]V - celé'!H9 -> 0 | ... L62: ='[1]V - celé'!L9 -> 24.28
A63: ='[1]V - celé'!A10 -> 01.1.1 | B63: ='[1]V - celé'!B10 -> 621 | C63: ='[1]V - celé'!C10 | D63: ='[1]V - celé'!D10 -> 41 | E63: ='[1]V - celé'!E10 -> Poistné do Všeobecnej zdravotnej poisťovne | F63: ='[1]V - celé'!F10 -> 201.6 | G63: ='[1]V - celé'!G10 -> 735.47 | H63: ='[1]V - celé'!H10 -> 4417.56 | ... L63: ='[1]V - celé'!L10 -> 5600
A64: ='[1]V - celé'!A11 -> 01.1.1 | B64: ='[1]V - celé'!B11 -> 623 | C64: ='[1]V - celé'!C11 | D64: ='[1]V - celé'!D11 -> 111 | E64: ='[1]V - celé'!E11 -> Poistné do ostatných zdravotných poisťovní | F64: ='[1]V - celé'!F11 -> 0 | G64: ='[1]V - celé'!G11 -> 0 | H64: ='[1]V - celé'!H11 -> 0 | ... L64: ='[1]V - celé'!L11 -> 24.28
A65: ='[1]V - celé'!A12 -> 01.1.1 | B65: ='[1]V - celé'!B12 -> 623 | C65: ='[1]V - celé'!C12 | D65: ='[1]V - celé'!D12 -> 41 | E65: ='[1]V - celé'!E12 -> Poistné do ostatných zdravotných poisťovní | F65: ='[1]V - celé'!F12 -> 12459.65 | G65: ='[1]V - celé'!G12 -> 8802.24 | H65: ='[1]V - celé'!H12 -> 4417.56 | ... L65: ='[1]V - celé'!L12 -> 5600
A66: ='[1]V - celé'!A13 -> 01.1.1 | B66: ='[1]V - celé'!B13 -> 625001 | C66: ='[1]V - celé'!C13 | D66: ='[1]V - celé'!D13 -> 111 | E66: ='[1]V - celé'!E13 -> Na nemocenské poistenie | F66: ='[1]V - celé'!F13 -> 0 | G66: ='[1]V - celé'!G13 -> 0 | H66: ='[1]V - celé'!H13 -> 0 | ... L66: ='[1]V - celé'!L13 -> 6.8
A67: ='[1]V - celé'!A14 -> 01.1.1 | B67: ='[1]V - celé'!B14 -> 625001 | C67: ='[1]V - celé'!C14 | D67: ='[1]V - celé'!D14 -> 41 | E67: ='[1]V - celé'!E14 -> Na nemocenské poistenie | F67: ='[1]V - celé'!F14 -> 1533.56 | G67: ='[1]V - celé'!G14 -> 1335.87 | H67: ='[1]V - celé'!H14 -> 1236.92 | ... L67: ='[1]V - celé'!L14 -> 1570
A68: ='[1]V - celé'!A15 -> 01.1.1 | B68: ='[1]V - celé'!B15 -> 625002 | C68: ='[1]V - celé'!C15 | D68: ='[1]V - celé'!D15 -> 111 | E68: ='[1]V - celé'!E15 -> Na starobné poistenie | F68: ='[1]V - celé'!F15 -> 0 | G68: ='[1]V - celé'!G15 -> 0 | H68: ='[1]V - celé'!H15 -> 0 | ... L68: ='[1]V - celé'!L15 -> 67.97
... A127: ='[1]V - celé'!A74 -> 01.1.1 | B127: ='[1]V - celé'!B74 -> 642014 | C127: ='[1]V - celé'!C74 | D127: ='[1]V - celé'!D74 -> 41 | E127: ='[1]V - celé'!E74 -> Jednotlivcovi | F127: ='[1]V - celé'!F74 -> 30.49 | G127: ='[1]V - celé'!G74 -> 504.13 | H127: ='[1]V - celé'!H74 -> 520 | ... L127: ='[1]V - celé'!L74 -> 340
A128: spolu | F128: =SUM(F57:F127) -> 227160.85 | G128: =SUM(G57:G127) -> 198820.91 | H128: =SUM(H57:H127) -> 201698.29 | I128: =SUM(I57:I127) -> 239011.77 | J128: =SUM(J57:J127) -> 228763.36 | K128: =SUM(K57:K127) -> 235835.21 | L128: =SUM(L57:L127) -> 243135.21
A130: 0112 - Finančné a rozpočtové záležitosti
A131: funkčná klasifikácia | B131: ekonomická klasifikácia | C131: analytika | D131: zdroj | E131: názov | F131: skutočnosť 2022 | G131: skutočnosť 2023 | H131: schválený rozpočet 2024 | I131: skutočnosť 2024 | J131: návrh rozpočtu 2025 | K131: návrh na rok 2026 | L131: návrh na rok 2027
A132: ='[1]V - celé'!A75 -> 01.1.2 | B132: ='[1]V - celé'!B75 -> 621 | C132: ='[1]V - celé'!C75 | D132: ='[1]V - celé'!D75 -> 41 | E132: ='[1]V - celé'!E75 -> Poistné do Všeobecnej zdravotnej poisťovne | F132: ='[1]V - celé'!F75 -> 34.6 | G132: ='[1]V - celé'!G75 -> 16 | H132: ='[1]V - celé'!H75 -> 42.5 | ... L132: ='[1]V - celé'!L75 -> 60
A133: ='[1]V - celé'!A76 -> 01.1.2 | B133: ='[1]V - celé'!B76 -> 623 | C133: ='[1]V - celé'!C76 | D133: ='[1]V - celé'!D76 -> 41 | E133: ='[1]V - celé'!E76 -> Poistné do ostatných zdravotných poisťovní | F133: ='[1]V - celé'!F76 -> 188.6 | G133: ='[1]V - celé'!G76 -> 12 | H133: ='[1]V - celé'!H76 -> 42.5 | ... L133: ='[1]V - celé'!L76 -> 60
A134: ='[1]V - celé'!A77 -> 01.1.2 | B134: ='[1]V - celé'!B77 -> 625001 | C134: ='[1]V - celé'!C77 -> 0 | D134: ='[1]V - celé'!D77 -> 41 | E134: ='[1]V - celé'!E77 -> Na nemocenské poistenie | F134: ='[1]V - celé'!F77 -> 0 | G134: ='[1]V - celé'!G77 -> 0 | H134: ='[1]V - celé'!H77 -> 0 | ... L134: ='[1]V - celé'!L77 -> 30
A135: ='[1]V - celé'!A78 -> 01.1.2 | B135: ='[1]V - celé'!B78 -> 625002 | C135: ='[1]V - celé'!C78 | D135: ='[1]V - celé'!D78 -> 41 | E135: ='[1]V - celé'!E78 -> Na starobné poistenie | F135: ='[1]V - celé'!F78 -> 310.19 | G135: ='[1]V - celé'!G78 -> 64.38 | H135: ='[1]V - celé'!H78 -> 11.9 | ... L135: ='[1]V - celé'!L78 -> 130
...
