Workbook

Sheet P+V - sumár
A1: ROZPOČET NA ROKY 2025-2027
A3: Prehľad príjmov a výdavkov rozpočtu
B6: skutočnosť 2022 | C6: skutočnosť 2023 | D6: schválený rozpočet 2024 | E6: skutočnosť 2024 | F6: návrh rozpočtu 2025 | G6: návrh na rok 2026 | H6: návrh na rok 2027
A7: Bežné príjmy | B7: ='P+V'!F51 -> 1077356.8 | C7: ='P+V'!G51 -> 1308654.2 | D7: ='P+V'!H51 -> 1335910.2 | E7: ='P+V'!I51 -> 1386993.5 | F7: ='P+V'!J51 -> 1295278.6 | G7: ='P+V'!K51 -> 1345350.2 | H7: ='P+V'!L51 -> 1384024.2
A8: Bežné výdavky | B8: ='P+V'!F755 -> 996920.06 | C8: ='P+V'!G755 -> 1072094.5 | D8: ='P+V'!H755 -> 1156551.9 | E8: ='P+V'!I755 -> 1162688 | F8: ='P+V'!J755 -> 1172165.8 | G8: ='P+V'!K755 -> 1162308.1 | H8: ='P+V'!L755 -> 1185954.4
A9: Saldo bežného rozpočtu | B9: =B7-B8 -> 80436.77 | C9: =C7-C8 -> 236559.7 | D9: =D7-D8 -> 179358.35 | E9: =E7-E8 -> 224305.52 | F9: =F7-F8 -> 123112.82 | G9: =G7-G8 -> 183042.12 | H9: =H7-H8 -> 198069.8
A11: Kapitálové príjmy | B11: ='P+V'!F772 -> 14467.78 | C11: ='P+V'!G772 -> 43354 | D11: ='P+V'!H772 -> 381977.54 | E11: ='P+V'!I772 -> 5000 | F11: ='P+V'!J772 -> 768376.9 | G11: ='P+V'!K772 -> 36740 | H11: ='P+V'!L772 -> 0
A12: Kapitálové výdavky | B12: ='P+V'!F816 -> 4008 | C12: ='P+V'!G816 -> 29215.95 | D12: ='P+V'!H816 -> 692978.04 | E12: ='P+V'!I816 -> 178782.22 | F12: ='P+V'!J816 -> 1240764 | G12: ='P+V'!K816 -> 200630 | H12: ='P+V'!L816 -> 12050
A13: Saldo kapitálového rozpočtu | B13: =B11-B12 -> 10459.78 | C13: =C11-C12 -> 14138.05 | D13: =D11-D12 -> -311000.5 | E13: =E11-E12 -> -173782.22 | F13: =F11-F12 -> -472387.1 | G13: =G11-G12 -> -163890 | H13: =H11-H12 -> -12050
A15: Príjmové finančné operácie | B15: ='P+V'!F834 -> 63226.82 | C15: ='P+V'!G834 -> 55092.43 | D15: ='P+V'!H834 -> 181744.75 | E15: ='P+V'!I834 -> 56215.1 | F15: ='P+V'!J834 -> 399849.2 | G15: ='P+V'!K834 -> 135000 | H15: ='P+V'!L834 -> 0
A16: Výdavkové finančné operácie | B16: ='P+V'!F843 -> 49297.81 | C16: ='P+V'!G843 -> 99714.15 | D16: ='P+V'!H843 -> 50102.6 | E16: ='P+V'!I843 -> 50102.6 | F16: ='P+V'!J843 -> 50574.92 | G16: ='P+V'!K843 -> 50988.58 | H16: ='P+V'!L843 -> 51422.26
A17: Saldo finančných operácií | B17: =B15-B16 -> 13929.01 | C17: =C15-C16 -> -44621.72 | D17: =D15-D16 -> 131642.15 | E17: =E15-E16 -> 6112.5 | F17: =F15-F16 -> 349274.28 | G17: =G15-G16 -> 84011.42 | H17: =H15-H16 -> -51422.26
A19: Celkové príjmy | B19: =B7+B11+B15 -> 1155051.4 | C19: =C7+C11+C15 -> 1407100.6 | D19: =D7+D11+D15 -> 1899632.5 | E19: =E7+E11+E15 -> 1448208.6 | F19: =F7+F11+F15 -> 2463504.7 | G19: =G7+G11+G15 -> 1517090.2 | H19: =H7+H11+H15 -> 1384024.2
A20: Celkové výdavky | B20: =B8+B12+B16 -> 1050225.9 | C20: =C8+C12+C16 -> 1201024.6 | D20: =D8+D12+D16 -> 1899632.5 | E20: =E8+E12+E16 -> 1391572.8 | F20: =F8+F12+F16 -> 2463504.7 | G20: =G8+G12+G16 -> 1413926.7 | H20: =H8+H12+H16 -> 1249426.7
A21: Celkové saldo | B21: =B19-B20 -> 104825.56 | C21: =C19-C20 -> 206076.03 | D21: =D19-D20 -> 0 | E21: =E19-E20 -> 56635.8 | F21: =F19-F20 -> 0 | G21: =G19-G20 -> 103163.54 | H21: =H19-H20 -> 134597.54
A23: Celkové príjmy bez finančných operácií | B23: =B7+B11 -> 1091824.6 | C23: =C7+C11 -> 1352008.2 | D23: =D7+D11 -> 1717887.8 | E23: =E7+E11 -> 1391993.5 | F23: =F7+F11 -> 2063655.5 | G23: =G7+G11 -> 1382090.2 | H23: =H7+H11 -> 1384024.2
A24: Celkové výdavky bez finančných operácií | B24: =B8+B12 -> 1000928.1 | C24: =C8+C12 -> 1101310.5 | D24: =D8+D12 -> 1849529.9 | E24: =E8+E12 -> 1341470.2 | F24: =F8+F12 -> 2412929.8 | G24: =G8+G12 -> 1362938.1 | H24: =H8+H12 -> 1198004.4
A25: Celkové saldo bez finančných operácií | B25: =B23-B24 -> 90896.55 | C25: =C23-C24 -> 250697.75 | D25: =D23-D24 -> -131642.15 | E25: =E23-E24 -> 50523.3 | F25: =F23-F24 -> -349274.28 | G25: =G23-G24 -> 19152.12 | H25: =H23-H24 -> 186019.8
A32: V Kráľovej nad Váhom, dňa 20.03.2025 | F32: ................................................................................
F33: v.r. Jaroslava Bergendiová
F34: starostka obce

Sheet P+V
A1: ROZPOČET NA ROKY 2025-2027
A3: BEŽNÝ ROZPOČET - PRÍJMY
B5: ekonomická klasifikácia | C5: analytika | D5: zdroj | E5: názov | F5: skutočnosť 2022 | G5: skutočnosť 2023 | H5: schválený rozpočet 2024 | I5: skutočnosť 2024 | J5: návrh rozpočtu 2025 | K5: návrh na rok 2026 | L5: návrh na rok 2027
A6: ='[1]P - celé'!A4 | B6: ='[1]P - celé'!B4 -> 111003 | C6: ='[1]P - celé'!C4 | D6: ='[1]P - celé'!D4 -> 41 | E6: ='[1]P - celé'!E4 -> Výnos dane z príjmov poukázaný územnej samospráve | F6: ='[1]P - celé'!F4 -> 595288.29 | G6: ='[1]P - celé'!G4 -> 660982.88 | H6: ='[1]P - celé'!H4 -> 688157 | ... L6: ='[1]P - celé'!L4 -> 662442
A7: ='[1]P - celé'!A5 | B7: ='[1]P - celé'!B5 -> 121001 | C7: ='[1]P - celé'!C5 | D7: ='[1]P - celé'!D5 -> 41 | E7: ='[1]P - celé'!E5 -> Daň z pozemkov | F7: ='[1]P - celé'!F5 -> 40280.74 | G7: ='[1]P - celé'!G5 -> 47048.05 | H7: ='[1]P - celé'!H5 -> 55877.16 | ... L7: ='[1]P - celé'!L5 -> 59433
A8: ='[1]P - celé'!A6 | B8: ='[1]P - celé'!B6 -> 121002 | C8: ='[1]P - celé'!C6 | D8: ='[1]P - celé'!D6 -> 41 | E8: ='[1]P - celé'!E6 -> Zo stavieb | F8: ='[1]P - celé'!F6 -> 32657.58 | G8: ='[1]P - celé'!G6 -> 49926.51 | H8: ='[1]P - celé'!H6 -> 58184.08 | ... L8: ='[1]P - celé'!L6 -> 64955
A9: ='[1]P - celé'!A7 | B9: ='[1]P - celé'!B7 -> 121003 | C9: ='[1]P - celé'!C7 | D9: ='[1]P - celé'!D7 -> 41 | E9: ='[1]P - celé'!E7 -> Z bytov a nebytových priestorov v bytovom dome | F9: ='[1]P - celé'!F7 -> 79.66 | G9: ='[1]P - celé'!G7 -> 136.56 | H9: ='[1]P - celé'!H7 -> 170.7 | ... L9: ='[1]P - celé'!L7 -> 193.46
A10: ='[1]P - celé'!A8 | B10: ='[1]P - celé'!B8 -> 133001 | C10: ='[1]P - celé'!C8 | D10: ='[1]P - celé'!D8 -> 41 | E10: ='[1]P - celé'!E8 -> Za psa | F10: ='[1]P - celé'!F8 -> 1116 | G10: ='[1]P - celé'!G8 -> 1693.28 | H10: ='[1]P - celé'!H8 -> 1776 | ... L10: ='[1]P - celé'!L8 -> 1776
A11: ='[1]P - celé'!A9 | B11: ='[1]P - celé'!B9 -> 133012 | C11: ='[1]P - celé'!C9 | D11: ='[1]P - celé'!D9 -> 41 | E11: ='[1]P - celé'!E9 -> Za užívanie verejného priestranstva | F11: ='[1]P - celé'!F9 -> 0 | G11: ='[1]P - celé'!G9 -> 30 | H11: ='[1]P - celé'!H9 -> 50 | ... L11: ='[1]P - celé'!L9 -> 50
A12: ='[1]P - celé'!A10 | B12: ='[1]P - celé'!B10 -> 133013 | C12: ='[1]P - celé'!C10 | D12: ='[1]P - celé'!D10 -> 41 | E12: ='[1]P - celé'!E10 -> Za komunálne odpady a drobné stavebné odpady | F12: ='[1]P - celé'!F10 -> 51923.25 | G12: ='[1]P - celé'!G10 -> 54730.11 | H12: ='[1]P - celé'!H10 -> 67966.2 | ... L12: ='[1]P - celé'!L10 -> 73920
A13: ='[1]P - celé'!A11 | B13: ='[1]P - celé'!B11 -> 212002 | C13: ='[1]P - celé'!C11 | D13: ='[1]P - celé'!D11 -> 41 | E13: ='[1]P - celé'!E11 -> Z prenajatých pozemkov | F13: ='[1]P - celé'!F11 -> 2446.04 | G13: ='[1]P - celé'!G11 -> 2300.37 | H13: ='[1]P - celé'!H11 -> 2585.02 | ... L13: ='[1]P - celé'!L11 -> 2835.02
A14: ='[1]P - celé'!A12 | B14: ='[1]P - celé'!B12 -> 212003 | C14: ='[1]P - celé'!C12 | D14: ='[1]P - celé'!D12 -> 41 | E14: ='[1]P - celé'!E12 -> Z prenajatých budov, priestorov a objektov | F14: ='[1]P - celé'!F12 -> 67800.31 | G14: ='[1]P - celé'!G12 -> 65066.68 | H14: ='[1]P - celé'!H12 -> 3805.78 | ... L14: ='[1]P - celé'!L12 -> 3755.78
A15: ='[1]P - celé'!A13 | B15: ='[1]P - celé'!B13 -> 212003 | C15: ='[1]P - celé'!C13 -> BYTY | D15: ='[1]P - celé'!D13 -> 41 | E15: ='[1]P - celé'!E13 -> Z prenajatých budov, priestorov a objektov | F15: ='[1]P - celé'!F13 -> 0 | G15: ='[1]P - celé'!G13 -> 0 | H15: ='[1]P - celé'!H13 -> 75217.08 | ... L15: ='[1]P - celé'!L13 -> 75217.08
A16: ='[1]P - celé'!A14 | B16: ='[1]P - celé'!B14 -> 221002 | C16: ='[1]P - celé'!C14 | D16: ='[1]P - celé'!D14 -> 41 | E16: ='[1]P - celé'!E14 -> Správne poplatky | F16: ='[1]P - celé'!F14 -> 6940.05 | G16: ='[1]P - celé'!G14 -> 7169 | H16: ='[1]P - celé'!H14 -> 7000 | ... L16: ='[1]P - celé'!L14 -> 8000
A17: ='[1]P - celé'!A15 | B17: ='[1]P - celé'!B15 -> 221004 | C17: ='[1]P - celé'!C15 | D17: ='[1]P - celé'!D15 -> 41 | E17: ='[1]P - celé'!E15 -> Ostatné poplatky | F17: ='[1]P - celé'!F15 -> 2 | G17: ='[1]P - celé'!G15 -> 0 | H17: ='[1]P - celé'!H15 -> 0 | ... L17: ='[1]P - celé'!L15 -> 0
... A50: ='[1]P - celé'!A48 | B50: ='[1]P - celé'!B48 -> 312011 | C50: ='[1]P - celé'!C48 | D50: ='[1]P - celé'!D48 -> 71 | E50: ='[1]P - celé'!E48 -> Od ostatných subjektov verejnej správy | F50: ='[1]P - celé'!F48 -> 19149.59 | G50: ='[1]P - celé'!G48 -> 25606.68 | H50: ='[1]P - celé'!H48 -> 25460.28 | ... L50: ='[1]P - celé'!L48 -> 27110
A51: SPOLU - bežný rozpočet - príjmy | F51: =SUM(F6:F50) -> 1077356.8 | G51: =SUM(G6:G50) -> 1308654.2 | H51: =SUM(H6:H50) -> 1335910.2 | I51: =SUM(I6:I50) -> 1386993.5 | J51: =SUM(J6:J50) -> 1295278.6 | K51: =SUM(K6:K50) -> 1345350.2 | L51: =SUM(L6:L50) -> 1384024.2
A53: BEŽNÝ ROZPOČET - VÝDAVKY
A55: 0111 - Výkonné a zákonodarné orgány
A56: funkčná klasifikácia | B56: ekonomická klasifikácia | C56: analytika | D56: zdroj | E56: názov | F56: skutočnosť 2022 | G56: skutočnosť 2023 | H56: schválený rozpočet 2024 | I56: skutočnosť 2024 | J56: návrh rozpočtu 2025 | K56: návrh na rok 2026 | L56: návrh na rok 2027
A57: ='[1]V - celé'!A4 -> 01.1.1 | B57: ='[1]V - celé'!B4 -> 611 | C57: ='[1]V - celé'!C4 | D57: ='[1]V - celé'!D4 -> 3AA1 | E57: ='[1]V - celé'!E4 -> Tarifný plat, osobný plat, základný plat, funkčný | F57: ='[1]V - celé'!F4 -> 12612.01 | G57: ='[1]V - celé'!G4 -> 0 | H57: ='[1]V - celé'!H4 -> 0 | ... L57: ='[1]V - celé'!L4 -> 0
A58: ='[1]V - celé'!A5 -> 01.1.1 | B58: ='[1]V - celé'!B5 -> 611 | C58: ='[1]V - celé'!C5 | D58: ='[1]V - celé'!D5 -> 3AA2 | E58: ='[1]V - celé'!E5 -> Tarifný plat, osobný plat, základný plat, funkčný | F58: ='[1]V - celé'!F5 -> 1483.77 | G58: ='[1]V - celé'!G5 -> 0 | H58: ='[1]V - celé'!H5 -> 0 | ... L58: ='[1]V - celé'!L5 -> 0
A59: ='[1]V - celé'!A6 -> 01.1.1 | B59: ='[1]V - celé'!B6 -> 611 | C59: ='[1]V - celé'!C6 | D59: ='[1]V - celé'!D6 -> 111 | E59: ='[1]V - celé'!E6 -> Tarifný plat, osobný plat, základný plat, funkčný | F59: ='[1]V - celé'!F6 -> 0 | G59: ='[1]V - celé'!G6 -> 0 | H59: ='[1]V - celé'!H6 -> 0 | ... L59: ='[1]V - celé'!L6 -> 485.51
A60: ='[1]V - celé'!A7 -> 01.1.1 | B60: ='[1]V - celé'!B7 -> 611 | C60: ='[1]V - celé'!C7 | D60: ='[1]V - celé'!D7 -> 41 | E60: ='[1]V - celé'!E7 -> Tarifný plat, osobný plat, základný plat, funkčný | F60: ='[1]V - celé'!F7 -> 92456.42 | G60: ='[1]V - celé'!G7 -> 89779.87 | H60: ='[1]V - celé'!H7 -> 88351.2 | ... L60: ='[1]V - celé'!L7 -> 111680
A61: ='[1]V - celé'!A8 -> 01.1.1 | B61: ='[1]V - celé'!B8 -> 611 | C61: ='[1]V - celé'!C8 | D61: ='[1]V - celé'!D8 -> 46 | E61: ='[1]V - celé'!E8 -> Tarifný plat, osobný plat, základný plat, funkčný | F61: ='[1]V - celé'!F8 -> 12365.01 | G61: ='[1]V - celé'!G8 -> 0 | H61: ='[1]V - celé'!H8 -> 0 | ... L61: ='[1]V - celé'!L8 -> 0
A62: ='[1]V - celé'!A9 -> 01.1.1 | B62: ='[1]V - celé'!B9 -> 621 | C62: ='[1]V - celé'!C9 | D62: ='[1]V - celé'!D9 -> 111 | E62: ='[1]V - celé'!E9 -> Poistné do Všeobecnej zdravotnej poisťovne | F62: ='[1]V - celé'!F9 -> 0 | G62: ='[1]V - celé'!G9 -> 0 | H62: ='[1]V - celé'!H9 -> 0 | ... L62: ='[1]V - celé'!L9 -> 24.28
A63: ='[1]V - celé'!A10 -> 01.1.1 | B63: ='[1]V - celé'!B10 -> 621 | C63: ='[1]V - celé'!C10 | D63: ='[1]V - celé'!D10 -> 41 | E63: ='[1]V - celé'!E10 -> Poistné do Všeobecnej zdravotnej poisťovne | F63: ='[1]V - celé'!F10 -> 201.6 | G63: ='[1]V - celé'!G10 -> 735.47 | H63: ='[1]V - celé'!H10 -> 4417.56 | ... L63: ='[1]V - celé'!L10 -> 5600
A64: ='[1]V - celé'!A11 -> 01.1.1 | B64: ='[1]V - celé'!B11 -> 623 | C64: ='[1]V - celé'!C11 | D64: ='[1]V - celé'!D11 -> 111 | E64: ='[1]V - celé'!E11 -> Poistné do ostatných zdravotných poisťovní | F64: ='[1]V - celé'!F11 -> 0 | G64: ='[1]V - celé'!G11 -> 0 | H64: ='[1]V - celé'!H11 -> 0 | ... L64: ='[1]V - celé'!L11 -> 24.28
A65: ='[1]V - celé'!A12 -> 01.1.1 | B65: ='[1]V - celé'!B12 -> 623 | C65: ='[1]V - celé'!C12 | D65: ='[1]V - celé'!D12 -> 41 | E65: ='[1]V - celé'!E12 -> Poistné do ostatných zdravotných poisťovní | F65: ='[1]V - celé'!F12 -> 12459.65 | G65: ='[1]V - celé'!G12 -> 8802.24 | H65: ='[1]V - celé'!H12 -> 4417.56 | ... L65: ='[1]V - celé'!L12 -> 5600
A66: ='[1]V - celé'!A13 -> 01.1.1 | B66: ='[1]V - celé'!B13 -> 625001 | C66: ='[1]V - celé'!C13 | D66: ='[1]V - celé'!D13 -> 111 | E66: ='[1]V - celé'!E13 -> Na nemocenské poistenie | F66: ='[1]V - celé'!F13 -> 0 | G66: ='[1]V - celé'!G13 -> 0 | H66: ='[1]V - celé'!H13 -> 0 | ... L66: ='[1]V - celé'!L13 -> 6.8
A67: ='[1]V - celé'!A14 -> 01.1.1 | B67: ='[1]V - celé'!B14 -> 625001 | C67: ='[1]V - celé'!C14 | D67: ='[1]V - celé'!D14 -> 41 | E67: ='[1]V - celé'!E14 -> Na nemocenské poistenie | F67: ='[1]V - celé'!F14 -> 1533.56 | G67: ='[1]V - celé'!G14 -> 1335.87 | H67: ='[1]V - celé'!H14 -> 1236.92 | ... L67: ='[1]V - celé'!L14 -> 1570
A68: ='[1]V - celé'!A15 -> 01.1.1 | B68: ='[1]V - celé'!B15 -> 625002 | C68: ='[1]V - celé'!C15 | D68: ='[1]V - celé'!D15 -> 111 | E68: ='[1]V - celé'!E15 -> Na starobné poistenie | F68: ='[1]V - celé'!F15 -> 0 | G68: ='[1]V - celé'!G15 -> 0 | H68: ='[1]V - celé'!H15 -> 0 | ... L68: ='[1]V - celé'!L15 -> 67.97
... A127: ='[1]V - celé'!A74 -> 01.1.1 | B127: ='[1]V - celé'!B74 -> 642014 | C127: ='[1]V - celé'!C74 | D127: ='[1]V - celé'!D74 -> 41 | E127: ='[1]V - celé'!E74 -> Jednotlivcovi | F127: ='[1]V - celé'!F74 -> 30.49 | G127: ='[1]V - celé'!G74 -> 504.13 | H127: ='[1]V - celé'!H74 -> 520 | ... L127: ='[1]V - celé'!L74 -> 340
A128: spolu | F128: =SUM(F57:F127) -> 227160.85 | G128: =SUM(G57:G127) -> 198820.91 | H128: =SUM(H57:H127) -> 201698.29 | I128: =SUM(I57:I127) -> 239011.77 | J128: =SUM(J57:J127) -> 228763.36 | K128: =SUM(K57:K127) -> 235835.21 | L128: =SUM(L57:L127) -> 243135.21
A130: 0112 - Finančné a rozpočtové záležitosti
A131: funkčná klasifikácia | B131: ekonomická klasifikácia | C131: analytika | D131: zdroj | E131: názov | F131: skutočnosť 2022 | G131: skutočnosť 2023 | H131: schválený rozpočet 2024 | I131: skutočnosť 2024 | J131: návrh rozpočtu 2025 | K131: návrh na rok 2026 | L131: návrh na rok 2027
A132: ='[1]V - celé'!A75 -> 01.1.2 | B132: ='[1]V - celé'!B75 -> 621 | C132: ='[1]V - celé'!C75 | D132: ='[1]V - celé'!D75 -> 41 | E132: ='[1]V - celé'!E75 -> Poistné do Všeobecnej zdravotnej poisťovne | F132: ='[1]V - celé'!F75 -> 34.6 | G132: ='[1]V - celé'!G75 -> 16 | H132: ='[1]V - celé'!H75 -> 42.5 | ... L132: ='[1]V - celé'!L75 -> 60
A133: ='[1]V - celé'!A76 -> 01.1.2 | B133: ='[1]V - celé'!B76 -> 623 | C133: ='[1]V - celé'!C76 | D133: ='[1]V - celé'!D76 -> 41 | E133: ='[1]V - celé'!E76 -> Poistné do ostatných zdravotných poisťovní | F133: ='[1]V - celé'!F76 -> 188.6 | G133: ='[1]V - celé'!G76 -> 12 | H133: ='[1]V - celé'!H76 -> 42.5 | ... L133: ='[1]V - celé'!L76 -> 60
A134: ='[1]V - celé'!A77 -> 01.1.2 | B134: ='[1]V - celé'!B77 -> 625001 | C134: ='[1]V - celé'!C77 -> 0 | D134: ='[1]V - celé'!D77 -> 41 | E134: ='[1]V - celé'!E77 -> Na nemocenské poistenie | F134: ='[1]V - celé'!F77 -> 0 | G134: ='[1]V - celé'!G77 -> 0 | H134: ='[1]V - celé'!H77 -> 0 | ... L134: ='[1]V - celé'!L77 -> 30
A135: ='[1]V - celé'!A78 -> 01.1.2 | B135: ='[1]V - celé'!B78 -> 625002 | C135: ='[1]V - celé'!C78 | D135: ='[1]V - celé'!D78 -> 41 | E135: ='[1]V - celé'!E78 -> Na starobné poistenie | F135: ='[1]V - celé'!F78 -> 310.19 | G135: ='[1]V - celé'!G78 -> 64.38 | H135: ='[1]V - celé'!H78 -> 11.9 | ... L135: ='[1]V - celé'!L78 -> 130
A136: ='[1]V - celé'!A79 -> 01.1.2 | B136: ='[1]V - celé'!B79 -> 625003 | C136: ='[1]V - celé'!C79 | D136: ='[1]V - celé'!D79 -> 41 | E136: ='[1]V - celé'!E79 -> Na úrazové poistenie | F136: ='[1]V - celé'!F79 -> 8.39 | G136: ='[1]V - celé'!G79 -> 1.75 | H136: ='[1]V - celé'!H79 -> 119 | ... L136: ='[1]V - celé'!L79 -> 20
A137: ='[1]V - celé'!A80 -> 01.1.2 | B137: ='[1]V - celé'!B80 -> 625004 | C137: ='[1]V - celé'!C80 | D137: ='[1]V - celé'!D80 -> 41 | E137: ='[1]V - celé'!E80 -> Na invalidné poistenie | F137: ='[1]V - celé'!F80 -> 64.07 | G137: ='[1]V - celé'!G80 -> 13.8 | H137: ='[1]V - celé'!H80 -> 6.8 | ... L137: ='[1]V - celé'!L80 -> 40
A138: ='[1]V - celé'!A81 -> 01.1.2 | B138: ='[1]V - celé'!B81 -> 625005 | C138: ='[1]V - celé'!C81 | D138: ='[1]V - celé'!D81 -> 41 | E138: ='[1]V - celé'!E81 -> Na poistenie v nezamestnanosti | F138: ='[1]V - celé'!F81 -> 0 | G138: ='[1]V - celé'!G81 -> 0 | H138: ='[1]V - celé'!H81 -> 25.5 | ... L138: ='[1]V - celé'!L81 -> 20
A139: ='[1]V - celé'!A82 -> 01.1.2 | B139: ='[1]V - celé'!B82 -> 625007 | C139: ='[1]V - celé'!C82 | D139: ='[1]V - celé'!D82 -> 41 | E139: ='[1]V - celé'!E82 -> Na poistenie do rezervného fondu solidarity | F139: ='[1]V - celé'!F82 -> 103.78 | G139: ='[1]V - celé'!G82 -> 21.8 | H139: ='[1]V - celé'!H82 -> 8.5 | ... L139: ='[1]V - celé'!L82 -> 50
A140: ='[1]V - celé'!A83 -> 01.1.2 | B140: ='[1]V - celé'!B83 -> 637004 | C140: ='[1]V - celé'!C83 | D140: ='[1]V - celé'!D83 -> 41 | E140: ='[1]V - celé'!E83 -> Všeobecné služby | F140: ='[1]V - celé'!F83 -> 432 | G140: ='[1]V - celé'!G83 -> 438 | H140: ='[1]V - celé'!H83 -> 460 | ... L140: ='[1]V - celé'!L83 -> 490
A141: ='[1]V - celé'!A84 -> 01.1.2 | B141: ='[1]V - celé'!B84 -> 637005 | C141: ='[1]V - celé'!C84 | D141: ='[1]V - celé'!D84 -> 41 | E141: ='[1]V - celé'!E84 -> Špeciálne služby | F141: ='[1]V - celé'!F84 -> 900 | G141: ='[1]V - celé'!G84 -> 1404 | H141: ='[1]V - celé'!H84 -> 1450 | ... L141: ='[1]V - celé'!L84 -> 1610
A142: ='[1]V - celé'!A85 -> 01.1.2 | B142: ='[1]V - celé'!B85 -> 637012 | C142: ='[1]V - celé'!C85 | D142: ='[1]V - celé'!D85 -> 41 | E142: ='[1]V - celé'!E85 -> Poplatky a odvody | F142: ='[1]V - celé'!F85 -> 2327.01 | G142: ='[1]V - celé'!G85 -> 2785.87 | H142: ='[1]V - celé'!H85 -> 2870 | ... L142: ='[1]V - celé'!L85 -> 3350
A143: ='[1]V - celé'!A86 -> 01.1.2 | B143: ='[1]V - celé'!B86 -> 637015 | C143: ='[1]V - celé'!C86 | D143: ='[1]V - celé'!D86 -> 41 | E143: ='[1]V - celé'!E86 -> Poistné | F143: ='[1]V - celé'!F86 -> 5224.14 | G143: ='[1]V - celé'!G86 -> 5148.09 | H143: ='[1]V - celé'!H86 -> 5310 | ... L143: ='[1]V - celé'!L86 -> 5540
... A147: ='[1]V - celé'!A90 -> 01.1.2 | B147: ='[1]V - celé'!B90 -> 653001 | C147: ='[1]V - celé'!C90 | D147: ='[1]V - celé'!D90 -> 41 | E147: ='[1]V - celé'!E90 -> Manipulačné poplatky | F147: ='[1]V - celé'!F90 -> 67.2 | G147: ='[1]V - celé'!G90 -> 61.27 | H147: ='[1]V - celé'!H90 -> 60 | ... L147: ='[1]V - celé'!L90 -> 100
A148: spolu | F148: =SUM(F132:F147) -> 13860.9 | G148: =SUM(G132:G147) -> 13090.07 | H148: =SUM(H132:H147) -> 13856.7 | I148: =SUM(I132:I147) -> 13404.31 | J148: =SUM(J132:J147) -> 13639.6 | K148: =SUM(K132:K147) -> 14060 | L148: =SUM(L132:L147) -> 14520
A150: 0133 - Iné všeobecné služby - matrika
A151: funkčná klasifikácia | B151: ekonomická klasifikácia | C151: analytika | D151: zdroj | E151: názov | F151: skutočnosť 2022 | G151: skutočnosť 2023 | H151: schválený rozpočet 2024 | I151: skutočnosť 2024 | J151: návrh rozpočtu 2025 | K151: návrh na rok 2026 | L151: návrh na rok 2027
A152: ='[1]V - celé'!A91 -> 01.3.3 | B152: ='[1]V - celé'!B91 -> 611 | C152: ='[1]V - celé'!C91 | D152: ='[1]V - celé'!D91 -> 111 | E152: ='[1]V - celé'!E91 -> Tarifný plat, osobný plat, základný plat, funkčný | F152: ='[1]V - celé'!F91 -> 1935.27 | G152: ='[1]V - celé'!G91 -> 3160.83 | H152: ='[1]V - celé'!H91 -> 1459.87 | ... L152: ='[1]V - celé'!L91 -> 1462
A153: ='[1]V - celé'!A92 -> 01.3.3 | B153: ='[1]V - celé'!B92 -> 611 | C153: ='[1]V - celé'!C92 | D153: ='[1]V - celé'!D92 -> 41 | E153: ='[1]V - celé'!E92 -> Tarifný plat, osobný plat, základný plat, funkčný | F153: ='[1]V - celé'!F92 -> 2381.51 | G153: ='[1]V - celé'!G92 -> 0 | H153: ='[1]V - celé'!H92 -> 2000.93 | ... L153: ='[1]V - celé'!L92 -> 3180
A154: ='[1]V - celé'!A93 -> 01.3.3 | B154: ='[1]V - celé'!B93 -> 621 | C154: ='[1]V - celé'!C93 | D154: ='[1]V - celé'!D93 -> 111 | E154: ='[1]V - celé'!E93 -> Poistné do Všeobecnej zdravotnej poisťovne | F154: ='[1]V - celé'!F93 -> 0 | G154: ='[1]V - celé'!G93 -> 0 | H154: ='[1]V - celé'!H93 -> 72.99 | ... L154: ='[1]V - celé'!L93 -> 73.1
A155: ='[1]V - celé'!A94 -> 01.3.3 | B155: ='[1]V - celé'!B94 -> 621 | C155: ='[1]V - celé'!C94 | D155: ='[1]V - celé'!D94 -> 41 | E155: ='[1]V - celé'!E94 -> Poistné do Všeobecnej zdravotnej poisťovne | F155: ='[1]V - celé'!F94 -> 0 | G155: ='[1]V - celé'!G94 -> 0 | H155: ='[1]V - celé'!H94 -> 100.05 | ... L155: ='[1]V - celé'!L94 -> 170
A156: ='[1]V - celé'!A95 -> 01.3.3 | B156: ='[1]V - celé'!B95 -> 623 | C156: ='[1]V - celé'!C95 | D156: ='[1]V - celé'!D95 -> 111 | E156: ='[1]V - celé'!E95 -> Poistné do ostatných zdravotných poisťovní | F156: ='[1]V - celé'!F95 -> 296.46 | G156: ='[1]V - celé'!G95 -> 0 | H156: ='[1]V - celé'!H95 -> 72.99 | ... L156: ='[1]V - celé'!L95 -> 73.1
A157: ='[1]V - celé'!A96 -> 01.3.3 | B157: ='[1]V - celé'!B96 -> 623 | C157: ='[1]V - celé'!C96 | D157: ='[1]V - celé'!D96 -> 41 | E157: ='[1]V - celé'!E96 -> Poistné do ostatných zdravotných poisťovní | F157: ='[1]V - celé'!F96 -> 128.42 | G157: ='[1]V - celé'!G96 -> 0 | H157: ='[1]V - celé'!H96 -> 100.05 | ... L157: ='[1]V - celé'!L96 -> 170
A158: ='[1]V - celé'!A97 -> 01.3.3 | B158: ='[1]V - celé'!B97 -> 625001 | C158: ='[1]V - celé'!C97 | D158: ='[1]V - celé'!D97 -> 111 | E158: ='[1]V - celé'!E97 -> Na nemocenské poistenie | F158: ='[1]V - celé'!F97 -> 40.74 | G158: ='[1]V - celé'!G97 -> 0 | H158: ='[1]V - celé'!H97 -> 20.44 | ... L158: ='[1]V - celé'!L97 -> 20.47
A159: ='[1]V - celé'!A98 -> 01.3.3 | B159: ='[1]V - celé'!B98 -> 625001 | C159: ='[1]V - celé'!C98 | D159: ='[1]V - celé'!D98 -> 41 | E159: ='[1]V - celé'!E98 -> Na nemocenské poistenie | F159: ='[1]V - celé'!F98 -> 17.65 | G159: ='[1]V - celé'!G98 -> 0 | H159: ='[1]V - celé'!H98 -> 28.01 | ... L159: ='[1]V - celé'!L98 -> 60
A160: ='[1]V - celé'!A99 -> 01.3.3 | B160: ='[1]V - celé'!B99 -> 625002 | C160: ='[1]V - celé'!C99 | D160: ='[1]V - celé'!D99 -> 111 | E160: ='[1]V - celé'!E99 -> Na starobné poistenie | F160: ='[1]V - celé'!F99 -> 407.47 | G160: ='[1]V - celé'!G99 -> 0 | H160: ='[1]V - celé'!H99 -> 204.38 | ... L160: ='[1]V - celé'!L99 -> 204.68
A161: ='[1]V - celé'!A100 -> 01.3.3 | B161: ='[1]V - celé'!B100 -> 625002 | C161: ='[1]V - celé'!C100 | D161: ='[1]V - celé'!D100 -> 41 | E161: ='[1]V - celé'!E100 -> Na starobné poistenie | F161: ='[1]V - celé'!F100 -> 176.5 | G161: ='[1]V - celé'!G100 -> 0 | H161: ='[1]V - celé'!H100 -> 280.13 | ... L161: ='[1]V - celé'!L100 -> 460
A162: ='[1]V - celé'!A101 -> 01.3.3 | B162: ='[1]V - celé'!B101 -> 625003 | C162: ='[1]V - celé'!C101 | D162: ='[1]V - celé'!D101 -> 111 | E162: ='[1]V - celé'!E101 -> Na úrazové poistenie | F162: ='[1]V - celé'!F101 -> 23.28 | G162: ='[1]V - celé'!G101 -> 0 | H162: ='[1]V - celé'!H101 -> 11.68 | ... L162: ='[1]V - celé'!L101 -> 11.7
A163: ='[1]V - celé'!A102 -> 01.3.3 | B163: ='[1]V - celé'!B102 -> 625003 | C163: ='[1]V - celé'!C102 | D163: ='[1]V - celé'!D102 -> 41 | E163: ='[1]V - celé'!E102 -> Na úrazové poistenie | F163: ='[1]V - celé'!F102 -> 10.08 | G163: ='[1]V - celé'!G102 -> 0 | H163: ='[1]V - celé'!H102 -> 16.01 | ... L163: ='[1]V - celé'!L102 -> 40
... A178: ='[1]V - celé'!A117 -> 01.3.3 | B178: ='[1]V - celé'!B117 -> 642006 | C178: ='[1]V - celé'!C117 | D178: ='[1]V - celé'!D117 -> 41 | E178: ='[1]V - celé'!E117 -> Na členské príspevky | F178: ='[1]V - celé'!F117 -> 16 | G178: ='[1]V - celé'!G117 -> 33.3 | H178: ='[1]V - celé'!H117 -> 40 | ... L178: ='[1]V - celé'!L117 -> 60
A179: spolu | F179: =SUM(F152:F178) -> 6771.21 | G179: =SUM(G152:G178) -> 3245.07 | H179: =SUM(H152:H178) -> 5674.84 | I179: =SUM(I152:I178) -> 3421.38 | J179: =SUM(J152:J178) -> 7135.24 | K179: =SUM(K152:K178) -> 7344.25 | L179: =SUM(L152:L178) -> 7574.25
A181: 0160 - Všeobecné služby inde neklasifikované - voľby, referendá
A182: funkčná klasifikácia | B182: ekonomická klasifikácia | C182: analytika | D182: zdroj | E182: názov | F182: skutočnosť 2022 | G182: skutočnosť 2023 | H182: schválený rozpočet 2024 | I182: skutočnosť 2024 | J182: návrh rozpočtu 2025 | K182: návrh na rok 2026 | L182: návrh na rok 2027
A183: ='[1]V - celé'!A118 -> 01.6.0 | B183: ='[1]V - celé'!B118 -> 633002 | C183: ='[1]V - celé'!C118 | D183: ='[1]V - celé'!D118 -> 111 | E183: ='[1]V - celé'!E118 -> Výpočtová technika | F183: ='[1]V - celé'!F118 -> 21 | G183: ='[1]V - celé'!G118 -> 0 | H183: ='[1]V - celé'!H118 -> 0 | ... L183: ='[1]V - celé'!L118 -> 0
A184: ='[1]V - celé'!A119 -> 01.6.0 | B184: ='[1]V - celé'!B119 -> 633006 | C184: ='[1]V - celé'!C119 | D184: ='[1]V - celé'!D119 -> 111 | E184: ='[1]V - celé'!E119 -> Všeobecný materiál | F184: ='[1]V - celé'!F119 -> 24 | G184: ='[1]V - celé'!G119 -> 0 | H184: ='[1]V - celé'!H119 -> 0 | ... L184: ='[1]V - celé'!L119 -> 0
A185: ='[1]V - celé'!A120 -> 01.6.0 | B185: ='[1]V - celé'!B120 -> 633011 | C185: ='[1]V - celé'!C120 | D185: ='[1]V - celé'!D120 -> 111 | E185: ='[1]V - celé'!E120 -> Potraviny | F185: ='[1]V - celé'!F120 -> 23.85 | G185: ='[1]V - celé'!G120 -> 3.35 | H185: ='[1]V - celé'!H120 -> 0 | ... L185: ='[1]V - celé'!L120 -> 0
A186: ='[1]V - celé'!A121 -> 01.6.0 | B186: ='[1]V - celé'!B121 -> 633016 | C186: ='[1]V - celé'!C121 | D186: ='[1]V - celé'!D121 -> 111 | E186: ='[1]V - celé'!E121 -> Reprezentačné | F186: ='[1]V - celé'!F121 -> 48 | G186: ='[1]V - celé'!G121 -> 0 | H186: ='[1]V - celé'!H121 -> 0 | ... L186: ='[1]V - celé'!L121 -> 0
A187: ='[1]V - celé'!A122 -> 01.6.0 | B187: ='[1]V - celé'!B122 -> 637026 | C187: ='[1]V - celé'!C122 | D187: ='[1]V - celé'!D122 -> 111 | E187: ='[1]V - celé'!E122 -> Odmeny a príspevky | F187: ='[1]V - celé'!F122 -> 1051.31 | G187: ='[1]V - celé'!G122 -> 942.56 | H187: ='[1]V - celé'!H122 -> 0 | ... L187: ='[1]V - celé'!L122 -> 0
A188: spolu | F188: =SUM(F183:F187) -> 1168.16 | G188: =SUM(G183:G187) -> 945.91 | H188: =SUM(H183:H187) -> 0 | I188: =SUM(I183:I187) -> 2591.91 | J188: =SUM(J183:J187) -> 0 | K188: =SUM(K183:K187) -> 0 | L188: =SUM(L183:L187) -> 0
A190: 0170 - Transakcie verejného dlhu
A191: funkčná klasifikácia | B191: ekonomická klasifikácia | C191: analytika | D191: zdroj | E191: názov | F191: skutočnosť 2022 | G191: skutočnosť 2023 | H191: schválený rozpočet 2024 | I191: skutočnosť 2024 | J191: návrh rozpočtu 2025 | K191: návrh na rok 2026 | L191: návrh na rok 2027
A192: ='[1]V - celé'!A123 -> 01.7.0 | B192: ='[1]V - celé'!B123 -> 651002 | C192: ='[1]V - celé'!C123 | D192: ='[1]V - celé'!D123 -> 41 | E192: ='[1]V - celé'!E123 -> Banke a pobočke zahraničnej banky | F192: ='[1]V - celé'!F123 -> 1408.91 | G192: ='[1]V - celé'!G123 -> 2372.49 | H192: ='[1]V - celé'!H123 -> 1800 | ... L192: ='[1]V - celé'!L123 -> 2780
A193: ='[1]V - celé'!A124 -> 01.7.0 | B193: ='[1]V - celé'!B124 -> 651003 | C193: ='[1]V - celé'!C124 | D193: ='[1]V - celé'!D124 -> 41 | E193: ='[1]V - celé'!E124 -> Subjektu verejnej správy | F193: ='[1]V - celé'!F124 -> 6813.47 | G193: ='[1]V - celé'!G124 -> 6397.13 | H193: ='[1]V - celé'!H124 -> 6008.68 | ... L193: ='[1]V - celé'!L124 -> 4689.02
A194: spolu | F194: =SUM(F192:F193) -> 8222.38 | G194: =SUM(G192:G193) -> 8769.62 | H194: =SUM(H192:H193) -> 7808.68 | I194: =SUM(I192:I193) -> 8534.27 | J194: =SUM(J192:J193) -> 8146.36 | K194: =SUM(K192:K193) -> 7812.7 | L194: =SUM(L192:L193) -> 7469.02
A196: 0220 - Civilná ochrana
A197: funkčná klasifikácia | B197: ekonomická klasifikácia | C197: analytika | D197: zdroj | E197: názov | F197: skutočnosť 2022 | G197: skutočnosť 2023 | H197: schválený rozpočet 2024 | I197: skutočnosť 2024 | J197: návrh rozpočtu 2025 | K197: návrh na rok 2026 | L197: návrh na rok 2027
A198: ='[1]V - celé'!A125 -> 02.2.0 | B198: ='[1]V - celé'!B125 -> 633004 | C198: ='[1]V - celé'!C125 | D198: ='[1]V - celé'!D125 -> 111 | E198: ='[1]V - celé'!E125 -> Prevádzkové stroje, prístroje, zariadenie, technik | F198: ='[1]V - celé'!F125 -> 0 | G198: ='[1]V - celé'!G125 -> 0 | H198: ='[1]V - celé'!H125 -> 0 | ... L198: ='[1]V - celé'!L125 -> 0
A199: ='[1]V - celé'!A126 -> 02.2.0 | B199: ='[1]V - celé'!B126 -> 633006 | C199: ='[1]V - celé'!C126 | D199: ='[1]V - celé'!D126 -> 111 | E199: ='[1]V - celé'!E126 -> Všeobecný materiál | F199: ='[1]V - celé'!F126 -> 0 | G199: ='[1]V - celé'!G126 -> 0 | H199: ='[1]V - celé'!H126 -> 0 | ... L199: ='[1]V - celé'!L126 -> 0
A200: ='[1]V - celé'!A127 -> 02.2.0 | B200: ='[1]V - celé'!B127 -> 633006 | C200: ='[1]V - celé'!C127 | D200: ='[1]V - celé'!D127 -> 41 | E200: ='[1]V - celé'!E127 -> Všeobecný materiál | F200: ='[1]V - celé'!F127 -> 0 | G200: ='[1]V - celé'!G127 -> 8.25 | H200: ='[1]V - celé'!H127 -> 0 | ... L200: ='[1]V - celé'!L127 -> 0
A201: ='[1]V - celé'!A128 -> 02.2.0 | B201: ='[1]V - celé'!B128 -> 633007 | C201: ='[1]V - celé'!C128 | D201: ='[1]V - celé'!D128 -> 111 | E201: ='[1]V - celé'!E128 -> Špeciálny materiál | F201: ='[1]V - celé'!F128 -> 0 | G201: ='[1]V - celé'!G128 -> 0 | H201: ='[1]V - celé'!H128 -> 0 | ... L201: ='[1]V - celé'!L128 -> 0
A202: ='[1]V - celé'!A129 -> 02.2.0 | B202: ='[1]V - celé'!B129 -> 633007 | C202: ='[1]V - celé'!C129 | D202: ='[1]V - celé'!D129 -> 41 | E202: ='[1]V - celé'!E129 -> Špeciálny materiál | F202: ='[1]V - celé'!F129 -> 0 | G202: ='[1]V - celé'!G129 -> 0 | H202: ='[1]V - celé'!H129 -> 0 | ... L202: ='[1]V - celé'!L129 -> 0
A203: ='[1]V - celé'!A130 -> 02.2.0 | B203: ='[1]V - celé'!B130 -> 637004 | C203: ='[1]V - celé'!C130 | D203: ='[1]V - celé'!D130 -> 111 | E203: ='[1]V - celé'!E130 -> Všeobecné služby | F203: ='[1]V - celé'!F130 -> 0 | G203: ='[1]V - celé'!G130 -> 0 | H203: ='[1]V - celé'!H130 -> 0 | ... L203: ='[1]V - celé'!L130 -> 0
A204: ='[1]V - celé'!A131 -> 02.2.0 | B204: ='[1]V - celé'!B131 -> 637005 | C204: ='[1]V - celé'!C131 | D204: ='[1]V - celé'!D131 -> 111 | E204: ='[1]V - celé'!E131 -> Špeciálne služby | F204: ='[1]V - celé'!F131 -> 0 | G204: ='[1]V - celé'!G131 -> 0 | H204: ='[1]V - celé'!H131 -> 0 | ... L204: ='[1]V - celé'!L131 -> 0
A205: ='[1]V - celé'!A132 -> 02.2.0 | B205: ='[1]V - celé'!B132 -> 637027 | C205: ='[1]V - celé'!C132 | D205: ='[1]V - celé'!D132 -> 111 | E205: ='[1]V - celé'!E132 -> Odmeny zamestnancov mimopracovného pomeru | F205: ='[1]V - celé'!F132 -> 0 | G205: ='[1]V - celé'!G132 -> 0 | H205: ='[1]V - celé'!H132 -> 0 | ... L205: ='[1]V - celé'!L132 -> 0
A206: spolu | F206: =SUM(F198:F205) -> 0 | G206: =SUM(G198:G205) -> 8.25 | H206: =SUM(H198:H205) -> 0 | I206: =SUM(I198:I205) -> 0 | J206: =SUM(J198:J205) -> 0 | K206: =SUM(K198:K205) -> 0 | L206: =SUM(L198:L205) -> 0
A208: 0443 - Výstavba
A209: funkčná klasifikácia | B209: ekonomická klasifikácia | C209: analytika | D209: zdroj | E209: názov | F209: skutočnosť 2022 | G209: skutočnosť 2023 | H209: schválený rozpočet 2024 | I209: skutočnosť 2024 | J209: návrh rozpočtu 2025 | K209: návrh na rok 2026 | L209: návrh na rok 2027
A210: ='[1]V - celé'!A133 -> 04.4.3 | B210: ='[1]V - celé'!B133 -> 611 | C210: ='[1]V - celé'!C133 | D210: ='[1]V - celé'!D133 -> 111 | E210: ='[1]V - celé'!E133 -> Tarifný plat, osobný plat, základný plat, funkčný | F210: ='[1]V - celé'!F133 -> 1298.67 | G210: ='[1]V - celé'!G133 -> 1692.72 | H210: ='[1]V - celé'!H133 -> 0 | ... L210: ='[1]V - celé'!L133 -> 2443.51
A211: ='[1]V - celé'!A134 -> 04.4.3 | B211: ='[1]V - celé'!B134 -> 611 | C211: ='[1]V - celé'!C134 | D211: ='[1]V - celé'!D134 -> 41 | E211: ='[1]V - celé'!E134 -> Tarifný plat, osobný plat, základný plat, funkčný | F211: ='[1]V - celé'!F134 -> 3359.23 | G211: ='[1]V - celé'!G134 -> 1475.17 | H211: ='[1]V - celé'!H134 -> 3333.55 | ... L211: ='[1]V - celé'!L134 -> 3550
A212: ='[1]V - celé'!A135 -> 04.4.3 | B212: ='[1]V - celé'!B135 -> 611 | C212: ='[1]V - celé'!C135 | D212: ='[1]V - celé'!D135 -> 71 | E212: ='[1]V - celé'!E135 -> Tarifný plat, osobný plat, základný plat, funkčný | F212: ='[1]V - celé'!F135 -> 13483.04 | G212: ='[1]V - celé'!G135 -> 14094.84 | H212: ='[1]V - celé'!H135 -> 18866.45 | ... L212: ='[1]V - celé'!L135 -> 20030
A213: ='[1]V - celé'!A136 -> 04.4.3 | B213: ='[1]V - celé'!B136 -> 621 | C213: ='[1]V - celé'!C136 | D213: ='[1]V - celé'!D136 -> 111 | E213: ='[1]V - celé'!E136 -> Poistné do Všeobecnej zdravotnej poisťovne | F213: ='[1]V - celé'!F136 -> 201.48 | G213: ='[1]V - celé'!G136 -> 280.51 | H213: ='[1]V - celé'!H136 -> 0 | ... L213: ='[1]V - celé'!L136 -> 122.18
A214: ='[1]V - celé'!A137 -> 04.4.3 | B214: ='[1]V - celé'!B137 -> 621 | C214: ='[1]V - celé'!C137 | D214: ='[1]V - celé'!D137 -> 41 | E214: ='[1]V - celé'!E137 -> Poistné do Všeobecnej zdravotnej poisťovne | F214: ='[1]V - celé'!F137 -> 0 | G214: ='[1]V - celé'!G137 -> 0 | H214: ='[1]V - celé'!H137 -> 166.68 | ... L214: ='[1]V - celé'!L137 -> 190
A215: ='[1]V - celé'!A138 -> 04.4.3 | B215: ='[1]V - celé'!B138 -> 621 | C215: ='[1]V - celé'!C138 | D215: ='[1]V - celé'!D138 -> 71 | E215: ='[1]V - celé'!E138 -> Poistné do Všeobecnej zdravotnej poisťovne | F215: ='[1]V - celé'!F138 -> 1621.41 | G215: ='[1]V - celé'!G138 -> 2335.69 | H215: ='[1]V - celé'!H138 -> 943.32 | ... L215: ='[1]V - celé'!L138 -> 1010
A216: ='[1]V - celé'!A139 -> 04.4.3 | B216: ='[1]V - celé'!B139 -> 623 | C216: ='[1]V - celé'!C139 | D216: ='[1]V - celé'!D139 -> 111 | E216: ='[1]V - celé'!E139 -> Poistné do ostatných zdravotných poisťovní | F216: ='[1]V - celé'!F139 -> 0 | G216: ='[1]V - celé'!G139 -> 42.76 | H216: ='[1]V - celé'!H139 -> 0 | ... L216: ='[1]V - celé'!L139 -> 122.18
A217: ='[1]V - celé'!A140 -> 04.4.3 | B217: ='[1]V - celé'!B140 -> 623 | C217: ='[1]V - celé'!C140 | D217: ='[1]V - celé'!D140 -> 41 | E217: ='[1]V - celé'!E140 -> Poistné do ostatných zdravotných poisťovní | F217: ='[1]V - celé'!F140 -> 0 | G217: ='[1]V - celé'!G140 -> 0 | H217: ='[1]V - celé'!H140 -> 166.68 | ... L217: ='[1]V - celé'!L140 -> 190
...
